BEGIN:VCALENDAR
VERSION:2.0
PRODID:-//Zeilschool &#039;t Vossenhol - ECPv6.15.20//NONSGML v1.0//EN
CALSCALE:GREGORIAN
METHOD:PUBLISH
X-WR-CALNAME:Zeilschool &#039;t Vossenhol
X-ORIGINAL-URL:https://vossenhol.nl
X-WR-CALDESC:Evenementen voor Zeilschool &#039;t Vossenhol
REFRESH-INTERVAL;VALUE=DURATION:PT1H
X-Robots-Tag:noindex
X-PUBLISHED-TTL:PT1H
BEGIN:VTIMEZONE
TZID:Europe/Amsterdam
BEGIN:DAYLIGHT
TZOFFSETFROM:+0100
TZOFFSETTO:+0200
TZNAME:CEST
DTSTART:20250330T010000
END:DAYLIGHT
BEGIN:STANDARD
TZOFFSETFROM:+0200
TZOFFSETTO:+0100
TZNAME:CET
DTSTART:20251026T010000
END:STANDARD
BEGIN:DAYLIGHT
TZOFFSETFROM:+0100
TZOFFSETTO:+0200
TZNAME:CEST
DTSTART:20260329T010000
END:DAYLIGHT
BEGIN:STANDARD
TZOFFSETFROM:+0200
TZOFFSETTO:+0100
TZNAME:CET
DTSTART:20261025T010000
END:STANDARD
BEGIN:DAYLIGHT
TZOFFSETFROM:+0100
TZOFFSETTO:+0200
TZNAME:CEST
DTSTART:20270328T010000
END:DAYLIGHT
BEGIN:STANDARD
TZOFFSETFROM:+0200
TZOFFSETTO:+0100
TZNAME:CET
DTSTART:20271031T010000
END:STANDARD
END:VTIMEZONE
BEGIN:VEVENT
DTSTART;TZID=Europe/Amsterdam:20260726T160000
DTEND;TZID=Europe/Amsterdam:20260801T140000
DTSTAMP:20260420T195118
CREATED:20250915T124007Z
LAST-MODIFIED:20250916T103555Z
UID:10000071-1785081600-1785592800@vossenhol.nl
SUMMARY:Kaagweek B4
DESCRIPTION:Kampweek aan de Kaag voor 10-12-jarigen (basisschool) van zondag 26 juli t/m zaterdag 1 augustus 2026.
URL:https://vossenhol.nl/zeilkamp/kaagweek-b4-2026/
LOCATION:Kaag – Zeilschool ‘t Vossenhol\, Hellegatspolder 3\, Warmond\, Zuid-Holland\, 2361 NA
CATEGORIES:Kaagweek
ATTACH;FMTTYPE=image/webp:https://vossenhol.nl/wp-content/uploads/2021/09/IMG_6994-scaled.webp
ORGANIZER;CN="Zeilschool 't Vossenhol":MAILTO:info@vossenhol.nl
END:VEVENT
BEGIN:VEVENT
DTSTART;TZID=Europe/Amsterdam:20260816T160000
DTEND;TZID=Europe/Amsterdam:20260822T140000
DTSTAMP:20260420T195118
CREATED:20250915T122445Z
LAST-MODIFIED:20250915T122445Z
UID:10000068-1786896000-1787407200@vossenhol.nl
SUMMARY:Kaagweek B7
DESCRIPTION:Kampweek aan de Kaag voor 10-12-jarigen (basisschool) van zondag 16 augustus t/m zaterdag 22 augustus 2026.
URL:https://vossenhol.nl/zeilkamp/kaagweek-b7-2026/
LOCATION:Kaag – Zeilschool ‘t Vossenhol\, Hellegatspolder 3\, Warmond\, Zuid-Holland\, 2361 NA
CATEGORIES:Kaagweek
ATTACH;FMTTYPE=image/webp:https://vossenhol.nl/wp-content/uploads/2021/09/IMG_6994-scaled.webp
ORGANIZER;CN="Zeilschool 't Vossenhol":MAILTO:info@vossenhol.nl
END:VEVENT
END:VCALENDAR